BEGIN:VCALENDAR
VERSION:2.0
PRODID:-//Sawbridgeworth Angling Society - ECPv6.15.20//NONSGML v1.0//EN
CALSCALE:GREGORIAN
METHOD:PUBLISH
X-ORIGINAL-URL:https://sawbridgeworthanglingsociety.com
X-WR-CALDESC:Events for Sawbridgeworth Angling Society
REFRESH-INTERVAL;VALUE=DURATION:PT1H
X-Robots-Tag:noindex
X-PUBLISHED-TTL:PT1H
BEGIN:VTIMEZONE
TZID:UTC
BEGIN:STANDARD
TZOFFSETFROM:+0000
TZOFFSETTO:+0000
TZNAME:UTC
DTSTART:20210101T000000
END:STANDARD
END:VTIMEZONE
BEGIN:VEVENT
DTSTART;TZID=UTC:20221127T080000
DTEND;TZID=UTC:20221127T170000
DTSTAMP:20260422T214859
CREATED:20220607T080842Z
LAST-MODIFIED:20220607T080843Z
UID:437-1669536000-1669568400@sawbridgeworthanglingsociety.com
SUMMARY:Working Day
DESCRIPTION:The lake will be closed for the working Party
URL:https://sawbridgeworthanglingsociety.com/event/working-day-2/
CATEGORIES:Working Party
END:VEVENT
BEGIN:VEVENT
DTSTART;TZID=UTC:20221120T090000
DTEND;TZID=UTC:20221120T140000
DTSTAMP:20260422T214859
CREATED:20220607T075615Z
LAST-MODIFIED:20220607T075616Z
UID:427-1668934800-1668952800@sawbridgeworthanglingsociety.com
SUMMARY:Hart Cup
DESCRIPTION:
URL:https://sawbridgeworthanglingsociety.com/event/hart-cup/
CATEGORIES:Match
END:VEVENT
BEGIN:VEVENT
DTSTART;TZID=UTC:20221113T100000
DTEND;TZID=UTC:20221113T150000
DTSTAMP:20260422T214859
CREATED:20220607T075517Z
LAST-MODIFIED:20220607T075518Z
UID:425-1668333600-1668351600@sawbridgeworthanglingsociety.com
SUMMARY:Brandon Shield Vs BS
DESCRIPTION:
URL:https://sawbridgeworthanglingsociety.com/event/brandon-shield-vs-bs/
CATEGORIES:Match
END:VEVENT
BEGIN:VEVENT
DTSTART;TZID=UTC:20221106T090000
DTEND;TZID=UTC:20221106T140000
DTSTAMP:20260422T214859
CREATED:20220607T075345Z
LAST-MODIFIED:20220607T075346Z
UID:423-1667725200-1667743200@sawbridgeworthanglingsociety.com
SUMMARY:Perpetual Cup 3rd Leg - Harlow Mill
DESCRIPTION:
URL:https://sawbridgeworthanglingsociety.com/event/perpetual-cup-3rd-leg-harlow-mill/
CATEGORIES:Match
END:VEVENT
BEGIN:VEVENT
DTSTART;TZID=UTC:20221030T090000
DTEND;TZID=UTC:20221030T150000
DTSTAMP:20260422T214859
CREATED:20220607T075227Z
LAST-MODIFIED:20220607T075228Z
UID:421-1667120400-1667142000@sawbridgeworthanglingsociety.com
SUMMARY:Blasford Hill - CM3 3PF
DESCRIPTION:
URL:https://sawbridgeworthanglingsociety.com/event/blasford-hill-cm3-3pf/
CATEGORIES:Match
END:VEVENT
BEGIN:VEVENT
DTSTART;TZID=UTC:20221023T080000
DTEND;TZID=UTC:20221023T170000
DTSTAMP:20260422T214859
CREATED:20220607T080719Z
LAST-MODIFIED:20220607T080720Z
UID:435-1666512000-1666544400@sawbridgeworthanglingsociety.com
SUMMARY:Working Day
DESCRIPTION:The Lake will be closed for the working Party
URL:https://sawbridgeworthanglingsociety.com/event/working-day/
CATEGORIES:Working Party
END:VEVENT
BEGIN:VEVENT
DTSTART;TZID=UTC:20221016T090000
DTEND;TZID=UTC:20221016T150000
DTSTAMP:20260422T214859
CREATED:20220607T074646Z
LAST-MODIFIED:20220607T074647Z
UID:419-1665910800-1665932400@sawbridgeworthanglingsociety.com
SUMMARY:River Ouse - Sugar Beet Vs Chingford
DESCRIPTION:
URL:https://sawbridgeworthanglingsociety.com/event/river-ouse-sugar-beet-vs-chingford/
CATEGORIES:Match
END:VEVENT
BEGIN:VEVENT
DTSTART;TZID=UTC:20221009T090000
DTEND;TZID=UTC:20221009T150000
DTSTAMP:20260422T214859
CREATED:20220529T152721Z
LAST-MODIFIED:20220529T152722Z
UID:211-1665306000-1665327600@sawbridgeworthanglingsociety.com
SUMMARY:Autumn  Drawn Pairs
DESCRIPTION:
URL:https://sawbridgeworthanglingsociety.com/event/autumn-drawn-pairs/
LOCATION:Sawbridgeworth Lake\, United Kingdom
END:VEVENT
BEGIN:VEVENT
DTSTART;TZID=UTC:20221002T100000
DTEND;TZID=UTC:20221002T150000
DTSTAMP:20260422T214859
CREATED:20220529T152607Z
LAST-MODIFIED:20220529T152608Z
UID:209-1664704800-1664722800@sawbridgeworthanglingsociety.com
SUMMARY:Lee & Stort @ Pig Lake
DESCRIPTION:
URL:https://sawbridgeworthanglingsociety.com/event/lee-stort-pig-lake/
END:VEVENT
BEGIN:VEVENT
DTSTART;TZID=UTC:20220925T090000
DTEND;TZID=UTC:20220925T150000
DTSTAMP:20260422T214859
CREATED:20220529T152508Z
LAST-MODIFIED:20220529T152510Z
UID:207-1664096400-1664118000@sawbridgeworthanglingsociety.com
SUMMARY:Upware @ The Lode
DESCRIPTION:
URL:https://sawbridgeworthanglingsociety.com/event/upware-the-lode/
END:VEVENT
BEGIN:VEVENT
DTSTART;TZID=UTC:20220918T090000
DTEND;TZID=UTC:20220918T140000
DTSTAMP:20260422T214859
CREATED:20220529T152408Z
LAST-MODIFIED:20220529T152409Z
UID:205-1663491600-1663509600@sawbridgeworthanglingsociety.com
SUMMARY:OAP / Ladies 2nd Leg
DESCRIPTION:
URL:https://sawbridgeworthanglingsociety.com/event/oap-ladies-2nd-leg/
LOCATION:Sawbridgeworth Lake\, United Kingdom
END:VEVENT
BEGIN:VEVENT
DTSTART;TZID=UTC:20220911T100000
DTEND;TZID=UTC:20220911T150000
DTSTAMP:20260422T214859
CREATED:20220529T152140Z
LAST-MODIFIED:20220529T152141Z
UID:203-1662890400-1662908400@sawbridgeworthanglingsociety.com
SUMMARY:Triple Cup @ Coleman's Cottage
DESCRIPTION:At CM8 3EX
URL:https://sawbridgeworthanglingsociety.com/event/triple-cup-colemans-cottage/
END:VEVENT
BEGIN:VEVENT
DTSTART;TZID=UTC:20220904T090000
DTEND;TZID=UTC:20220904T150000
DTSTAMP:20260422T214859
CREATED:20220529T151954Z
LAST-MODIFIED:20220529T151955Z
UID:201-1662282000-1662303600@sawbridgeworthanglingsociety.com
SUMMARY:Blind Lane @ CM2 3UG
DESCRIPTION:
URL:https://sawbridgeworthanglingsociety.com/event/blind-lane-cm2-3ug/
END:VEVENT
BEGIN:VEVENT
DTSTART;TZID=UTC:20220821T090000
DTEND;TZID=UTC:20220821T160000
DTSTAMP:20260422T214859
CREATED:20220529T151610Z
LAST-MODIFIED:20220529T151612Z
UID:199-1661072400-1661097600@sawbridgeworthanglingsociety.com
SUMMARY:Specimen Shield 2nd Leg
DESCRIPTION:
URL:https://sawbridgeworthanglingsociety.com/event/specimen-shield-2nd-leg/
LOCATION:Sawbridgeworth Lake\, United Kingdom
END:VEVENT
BEGIN:VEVENT
DTSTART;TZID=UTC:20220814T090000
DTEND;TZID=UTC:20220814T140000
DTSTAMP:20260422T214859
CREATED:20220529T151502Z
LAST-MODIFIED:20220529T151506Z
UID:197-1660467600-1660485600@sawbridgeworthanglingsociety.com
SUMMARY:K. Short Cup @ Harlow Mill
DESCRIPTION:
URL:https://sawbridgeworthanglingsociety.com/event/k-short-cup-harlow-mill/
END:VEVENT
BEGIN:VEVENT
DTSTART;TZID=UTC:20220807T090000
DTEND;TZID=UTC:20220807T150000
DTSTAMP:20260422T214859
CREATED:20220529T151346Z
LAST-MODIFIED:20220529T151347Z
UID:195-1659862800-1659884400@sawbridgeworthanglingsociety.com
SUMMARY:Perpetual Cup 2nd Leg ( Rod @ Reel )
DESCRIPTION:
URL:https://sawbridgeworthanglingsociety.com/event/perpetual-cup-2nd-leg-rod-reel/
LOCATION:Sawbridgeworth Lake\, United Kingdom
END:VEVENT
BEGIN:VEVENT
DTSTART;TZID=UTC:20220731T090000
DTEND;TZID=UTC:20220731T150000
DTSTAMP:20260422T214859
CREATED:20220529T150906Z
LAST-MODIFIED:20220529T150907Z
UID:193-1659258000-1659279600@sawbridgeworthanglingsociety.com
SUMMARY:Southend Farm @ Damsell
DESCRIPTION:
URL:https://sawbridgeworthanglingsociety.com/event/southend-farm-damsell/
END:VEVENT
BEGIN:VEVENT
DTSTART;TZID=UTC:20220724T090000
DTEND;TZID=UTC:20220724T150000
DTSTAMP:20260422T214859
CREATED:20220529T150804Z
LAST-MODIFIED:20220529T150805Z
UID:191-1658653200-1658674800@sawbridgeworthanglingsociety.com
SUMMARY:Doris Barnes 2nd Leg (silvers only)
DESCRIPTION:
URL:https://sawbridgeworthanglingsociety.com/event/doris-barnes-2nd-leg-silvers-only/
LOCATION:Sawbridgeworth Lake\, United Kingdom
END:VEVENT
BEGIN:VEVENT
DTSTART;TZID=UTC:20220717T090000
DTEND;TZID=UTC:20220717T140000
DTSTAMP:20260422T214859
CREATED:20220529T150549Z
LAST-MODIFIED:20220529T150550Z
UID:189-1658048400-1658066400@sawbridgeworthanglingsociety.com
SUMMARY:Ernie Harboard Shield @ Harlow Mill
DESCRIPTION:
URL:https://sawbridgeworthanglingsociety.com/event/ernie-harboard-shield-harlow-mill/
END:VEVENT
BEGIN:VEVENT
DTSTART;TZID=UTC:20220710T090000
DTEND;TZID=UTC:20220710T140000
DTSTAMP:20260422T214859
CREATED:20220529T150403Z
LAST-MODIFIED:20220529T150405Z
UID:187-1657443600-1657461600@sawbridgeworthanglingsociety.com
SUMMARY:OAP/Ladies 1st Leg
DESCRIPTION:
URL:https://sawbridgeworthanglingsociety.com/event/oap-ladies-1st-leg/
LOCATION:Sawbridgeworth Lake\, United Kingdom
END:VEVENT
BEGIN:VEVENT
DTSTART;TZID=UTC:20220703T090000
DTEND;TZID=UTC:20220703T140000
DTSTAMP:20260422T214859
CREATED:20220529T150243Z
LAST-MODIFIED:20220529T150243Z
UID:185-1656838800-1656856800@sawbridgeworthanglingsociety.com
SUMMARY:John Foster Memorial Medal @ Station Rd
DESCRIPTION:
URL:https://sawbridgeworthanglingsociety.com/event/john-foster-memorial-medal-station-rd/
END:VEVENT
BEGIN:VEVENT
DTSTART;TZID=UTC:20220626T090000
DTEND;TZID=UTC:20220626T150000
DTSTAMP:20260422T214859
CREATED:20220529T150021Z
LAST-MODIFIED:20220529T150022Z
UID:183-1656234000-1656255600@sawbridgeworthanglingsociety.com
SUMMARY:Timberlands @ Baggers
DESCRIPTION:
URL:https://sawbridgeworthanglingsociety.com/event/timberlands-baggers/
END:VEVENT
BEGIN:VEVENT
DTSTART;TZID=UTC:20220619T090000
DTEND;TZID=UTC:20220619T150000
DTSTAMP:20260422T214859
CREATED:20220529T145623Z
LAST-MODIFIED:20220529T145624Z
UID:181-1655629200-1655650800@sawbridgeworthanglingsociety.com
SUMMARY:Rockells Farm Arkesden
DESCRIPTION:
URL:https://sawbridgeworthanglingsociety.com/event/rockells-farm-arkesden/
END:VEVENT
BEGIN:VEVENT
DTSTART;TZID=UTC:20220612T090000
DTEND;TZID=UTC:20220612T150000
DTSTAMP:20260422T214859
CREATED:20220529T145418Z
LAST-MODIFIED:20220529T145419Z
UID:179-1655024400-1655046000@sawbridgeworthanglingsociety.com
SUMMARY:Doris Barnes 1st Leg
DESCRIPTION:
URL:https://sawbridgeworthanglingsociety.com/event/doris-barnes-1st-leg/
LOCATION:Sawbridgeworth Lake\, United Kingdom
END:VEVENT
BEGIN:VEVENT
DTSTART;TZID=UTC:20220605T090000
DTEND;TZID=UTC:20220605T150000
DTSTAMP:20260422T214859
CREATED:20220529T144237Z
LAST-MODIFIED:20220529T145809Z
UID:177-1654419600-1654441200@sawbridgeworthanglingsociety.com
SUMMARY:Perpetual Cup 1st Leg
DESCRIPTION:
URL:https://sawbridgeworthanglingsociety.com/event/perpetual-cup-1st-leg/
LOCATION:Sawbridgeworth Lake\, United Kingdom
END:VEVENT
END:VCALENDAR